BEGIN:VCALENDAR
VERSION:2.0
PRODID:-//TELELI GOLF CLUB - ECPv6.15.18//NONSGML v1.0//EN
CALSCALE:GREGORIAN
METHOD:PUBLISH
X-ORIGINAL-URL:https://www.teleligolfclub.com
X-WR-CALDESC:Events for TELELI GOLF CLUB
REFRESH-INTERVAL;VALUE=DURATION:PT1H
X-Robots-Tag:noindex
X-PUBLISHED-TTL:PT1H
BEGIN:VTIMEZONE
TZID:UTC
BEGIN:STANDARD
TZOFFSETFROM:+0000
TZOFFSETTO:+0000
TZNAME:UTC
DTSTART:20250101T000000
END:STANDARD
END:VTIMEZONE
BEGIN:VEVENT
DTSTART;TZID=UTC:20260317T080000
DTEND;TZID=UTC:20260317T200000
DTSTAMP:20260425T031923
CREATED:20260210T060412Z
LAST-MODIFIED:20260210T060415Z
UID:10000001-1773734400-1773777600@www.teleligolfclub.com
SUMMARY:St. Patricks Day
DESCRIPTION:March 17thShow your spirit!Wear Green\, Take a Selfie\, Post it\, and Tag us for a chance to win a free round of golf!
URL:https://www.teleligolfclub.com/event/st-patricks-day/
ATTACH;FMTTYPE=image/png:https://www.teleligolfclub.com/wp-content/uploads/sites/9756/2026/02/March-17th-St.-Patricks-Day.png
END:VEVENT
BEGIN:VEVENT
DTSTART;TZID=UTC:20260401T080000
DTEND;TZID=UTC:20260409T170000
DTSTAMP:20260425T031923
CREATED:20260317T003141Z
LAST-MODIFIED:20260402T165906Z
UID:10000011-1775030400-1775754000@www.teleligolfclub.com
SUMMARY:Pick A Winner: (Apr 1- 9)
DESCRIPTION:
URL:https://www.teleligolfclub.com/event/pick-a-winner-apr-1-9/
ATTACH;FMTTYPE=image/png:https://www.teleligolfclub.com/wp-content/uploads/sites/9756/2026/03/April-Pick-The-Winner-Masters-8.png
END:VEVENT
BEGIN:VEVENT
DTSTART;TZID=UTC:20260401T080000
DTEND;TZID=UTC:20260430T170000
DTSTAMP:20260425T031923
CREATED:20260317T002926Z
LAST-MODIFIED:20260317T003749Z
UID:10000010-1775030400-1777568400@www.teleligolfclub.com
SUMMARY:Els for Autism
DESCRIPTION:
URL:https://www.teleligolfclub.com/event/els-for-autism/
ATTACH;FMTTYPE=image/png:https://www.teleligolfclub.com/wp-content/uploads/sites/9756/2026/03/APRIL-2nd-Month-Els-For-Autism-8.png
END:VEVENT
BEGIN:VEVENT
DTSTART;TZID=UTC:20260405T080000
DTEND;TZID=UTC:20260405T170000
DTSTAMP:20260425T031923
CREATED:20260317T003424Z
LAST-MODIFIED:20260317T003642Z
UID:10000013-1775376000-1775408400@www.teleligolfclub.com
SUMMARY:Easter: April 5
DESCRIPTION:
URL:https://www.teleligolfclub.com/event/easter-april-5/
ATTACH;FMTTYPE=image/png:https://www.teleligolfclub.com/wp-content/uploads/sites/9756/2026/03/April-5th-Easter-4.png
END:VEVENT
BEGIN:VEVENT
DTSTART;TZID=UTC:20260422T080000
DTEND;TZID=UTC:20260422T170000
DTSTAMP:20260425T031923
CREATED:20260317T003301Z
LAST-MODIFIED:20260317T004009Z
UID:10000012-1776844800-1776877200@www.teleligolfclub.com
SUMMARY:Earth Day: April 22
DESCRIPTION:
URL:https://www.teleligolfclub.com/event/earth-day-april-22/
ATTACH;FMTTYPE=image/png:https://www.teleligolfclub.com/wp-content/uploads/sites/9756/2026/03/April-22nd-Earth-Day-5.png
END:VEVENT
END:VCALENDAR