BEGIN:VCALENDAR
VERSION:2.0
PRODID:-//TELELI GOLF CLUB - ECPv6.15.18//NONSGML v1.0//EN
CALSCALE:GREGORIAN
METHOD:PUBLISH
X-WR-CALNAME:TELELI GOLF CLUB
X-ORIGINAL-URL:https://www.teleligolfclub.com
X-WR-CALDESC:Events for TELELI GOLF CLUB
REFRESH-INTERVAL;VALUE=DURATION:PT1H
X-Robots-Tag:noindex
X-PUBLISHED-TTL:PT1H
BEGIN:VTIMEZONE
TZID:UTC
BEGIN:STANDARD
TZOFFSETFROM:+0000
TZOFFSETTO:+0000
TZNAME:UTC
DTSTART:20250101T000000
END:STANDARD
END:VTIMEZONE
BEGIN:VEVENT
DTSTART;TZID=UTC:20260228T200000
DTEND;TZID=UTC:20260228T230000
DTSTAMP:20260425T045604
CREATED:20260221T035917Z
LAST-MODIFIED:20260221T035919Z
UID:10000005-1772308800-1772319600@www.teleligolfclub.com
SUMMARY:Burn Permit
DESCRIPTION:Playing classic rock\, blues\, soul and funk from the 70s to 90s.Show is from 8 pm – 11 pm
URL:https://www.teleligolfclub.com/event/burn-permit/
END:VEVENT
BEGIN:VEVENT
DTSTART;TZID=UTC:20260221T200000
DTEND;TZID=UTC:20260221T230000
DTSTAMP:20260425T045604
CREATED:20260221T035713Z
LAST-MODIFIED:20260221T035715Z
UID:10000003-1771704000-1771714800@www.teleligolfclub.com
SUMMARY:Rebel the Bay
DESCRIPTION:Performing the best of the 80’s\, 90’s and 2000’s alternative pop hits.Show is from 8 pm – 11 pm.
URL:https://www.teleligolfclub.com/event/rebel-the-bay/
END:VEVENT
BEGIN:VEVENT
DTSTART;TZID=UTC:20260220T200000
DTEND;TZID=UTC:20260220T230000
DTSTAMP:20260425T045604
CREATED:20260221T035613Z
LAST-MODIFIED:20260221T035615Z
UID:10000002-1771617600-1771628400@www.teleligolfclub.com
SUMMARY:Patton Leatha
DESCRIPTION:Playing music from the Motown era\, R&B\, old-school hits and the current top 40.Show is from 8 pm – 11 pm.
URL:https://www.teleligolfclub.com/event/patton-leatha/
END:VEVENT
END:VCALENDAR